BEGIN:VCALENDAR
VERSION:2.0
PRODID:-//Onkaparinga Swimming Club - ECPv5.2.1//NONSGML v1.0//EN
CALSCALE:GREGORIAN
METHOD:PUBLISH
X-WR-CALNAME:Onkaparinga Swimming Club
X-ORIGINAL-URL:http://onkaswimclub.com.au
X-WR-CALDESC:Events for Onkaparinga Swimming Club
BEGIN:VTIMEZONE
TZID:UTC
BEGIN:STANDARD
TZOFFSETFROM:+0000
TZOFFSETTO:+0000
TZNAME:UTC
DTSTART:20180101T000000
END:STANDARD
END:VTIMEZONE
BEGIN:VEVENT
DTSTART;TZID=UTC:20180105T160000
DTEND;TZID=UTC:20180108T170000
DTSTAMP:20210228T070211
CREATED:20161209T031605Z
LAST-MODIFIED:20171220T030537Z
UID:427-1515168000-1515430800@onkaswimclub.com.au
SUMMARY:2018 Country Championships
DESCRIPTION:2018 Country Championships\nEntries and info for all events (Superfish and Championships) via Swimming SA website:\nClick here for Info \nEntries close 12 pm 13/12/2017
URL:http://onkaswimclub.com.au/event/2017-country-championships/
END:VEVENT
END:VCALENDAR