BEGIN:VCALENDAR
VERSION:2.0
PRODID:-//Onkaparinga Swimming Club - ECPv5.2.1//NONSGML v1.0//EN
CALSCALE:GREGORIAN
METHOD:PUBLISH
X-WR-CALNAME:Onkaparinga Swimming Club
X-ORIGINAL-URL:http://onkaswimclub.com.au
X-WR-CALDESC:Events for Onkaparinga Swimming Club
BEGIN:VTIMEZONE
TZID:UTC
BEGIN:STANDARD
TZOFFSETFROM:+0000
TZOFFSETTO:+0000
TZNAME:UTC
DTSTART:20180101T000000
END:STANDARD
END:VTIMEZONE
BEGIN:VEVENT
DTSTART;TZID=UTC:20180116T070000
DTEND;TZID=UTC:20180121T170000
DTSTAMP:20210228T070226
CREATED:20161209T032325Z
LAST-MODIFIED:20171220T030910Z
UID:429-1516086000-1516554000@onkaswimclub.com.au
SUMMARY:2018 South Australian LC State Championships
DESCRIPTION:2018 South Australian LC State Championships \nEntries and info for all events via Swimming SA website:\nClick here for Info \nEntries close 12 pm Wednesday 20/12/2017
URL:http://onkaswimclub.com.au/event/2017-south-australian-lc-state-championships/
END:VEVENT
END:VCALENDAR