BEGIN:VCALENDAR
VERSION:2.0
PRODID:-//Onkaparinga Swimming Club - ECPv5.2.1//NONSGML v1.0//EN
CALSCALE:GREGORIAN
METHOD:PUBLISH
X-WR-CALNAME:Onkaparinga Swimming Club
X-ORIGINAL-URL:http://onkaswimclub.com.au
X-WR-CALDESC:Events for Onkaparinga Swimming Club
BEGIN:VTIMEZONE
TZID:UTC
BEGIN:STANDARD
TZOFFSETFROM:+0000
TZOFFSETTO:+0000
TZNAME:UTC
DTSTART:20180101T000000
END:STANDARD
END:VTIMEZONE
BEGIN:VEVENT
DTSTART;TZID=UTC:20180204T090000
DTEND;TZID=UTC:20180204T120000
DTSTAMP:20210228T070241
CREATED:20180117T215132Z
LAST-MODIFIED:20180117T215132Z
UID:613-1517734800-1517745600@onkaswimclub.com.au
SUMMARY:EDSA 2017/18 Session 6 - Strathalbyn
DESCRIPTION:EDSA 2017/18 Session 6 – Strathalbyn\nEntries via Swimming SA
URL:http://onkaswimclub.com.au/event/edsa-201718-session-6-strathalbyn/
END:VEVENT
END:VCALENDAR