BEGIN:VCALENDAR
VERSION:2.0
PRODID:-//Onkaparinga Swimming Club - ECPv5.2.1//NONSGML v1.0//EN
CALSCALE:GREGORIAN
METHOD:PUBLISH
X-WR-CALNAME:Onkaparinga Swimming Club
X-ORIGINAL-URL:http://onkaswimclub.com.au
X-WR-CALDESC:Events for Onkaparinga Swimming Club
BEGIN:VTIMEZONE
TZID:UTC
BEGIN:STANDARD
TZOFFSETFROM:+0000
TZOFFSETTO:+0000
TZNAME:UTC
DTSTART:20200101T000000
END:STANDARD
END:VTIMEZONE
BEGIN:VEVENT
DTSTART;TZID=UTC:20200715T073000
DTEND;TZID=UTC:20200719T170000
DTSTAMP:20210228T071223
CREATED:20190331T070325Z
LAST-MODIFIED:20190331T070325Z
UID:759-1594798200-1595178000@onkaswimclub.com.au
SUMMARY:2020 SA State SC Championships
DESCRIPTION:2020 South Australian SC State Championships \nEntries and info for all events via Swimming SA website:
URL:http://onkaswimclub.com.au/event/2020-sa-state-sc-championships/
LOCATION:SAALC\, 443 Morphett Road\, Oaklands Park\, SA\, 5046\, Australia
END:VEVENT
END:VCALENDAR