BEGIN:VCALENDAR
VERSION:2.0
PRODID:-//Onkaparinga Swimming Club - ECPv5.2.1//NONSGML v1.0//EN
CALSCALE:GREGORIAN
METHOD:PUBLISH
X-WR-CALNAME:Onkaparinga Swimming Club
X-ORIGINAL-URL:https://onkaswimclub.com.au
X-WR-CALDESC:Events for Onkaparinga Swimming Club
BEGIN:VTIMEZONE
TZID:UTC
BEGIN:STANDARD
TZOFFSETFROM:+0000
TZOFFSETTO:+0000
TZNAME:UTC
DTSTART:20180101T000000
END:STANDARD
END:VTIMEZONE
BEGIN:VEVENT
DTSTART;TZID=UTC:20180311T080000
DTEND;TZID=UTC:20180311T170000
DTSTAMP:20210228T071006
CREATED:20180129T215449Z
LAST-MODIFIED:20180129T215449Z
UID:602-1520755200-1520787600@onkaswimclub.com.au
SUMMARY:2018 Onkaparinga Open Carnival
DESCRIPTION:The 2018 Onkaparinga Open Carnival is now open for entry via the link below. \nEntries via Swimming SA \n  \n 
URL:https://onkaswimclub.com.au/event/2018-onkaparinga-open-carnival/
END:VEVENT
END:VCALENDAR