BEGIN:VCALENDAR
VERSION:2.0
PRODID:-//Onkaparinga Swimming Club - ECPv5.2.1//NONSGML v1.0//EN
CALSCALE:GREGORIAN
METHOD:PUBLISH
X-WR-CALNAME:Onkaparinga Swimming Club
X-ORIGINAL-URL:https://onkaswimclub.com.au
X-WR-CALDESC:Events for Onkaparinga Swimming Club
BEGIN:VTIMEZONE
TZID:UTC
BEGIN:STANDARD
TZOFFSETFROM:+0000
TZOFFSETTO:+0000
TZNAME:UTC
DTSTART:20190101T000000
END:STANDARD
END:VTIMEZONE
BEGIN:VEVENT
DTSTART;TZID=UTC:20190717T073000
DTEND;TZID=UTC:20190721T170000
DTSTAMP:20210228T071021
CREATED:20190331T065042Z
LAST-MODIFIED:20190331T065042Z
UID:754-1563348600-1563728400@onkaswimclub.com.au
SUMMARY:2019 State SC Championships
DESCRIPTION:2019 South Australian SC State Championships \nEntries and info for all events via Swimming SA website:\nClick here for Info \nEntries close 12pm Monday 12th July 2019
URL:https://onkaswimclub.com.au/event/2019-state-sc-championships/
LOCATION:SAALC\, 443 Morphett Road\, Oaklands Park\, SA\, 5046\, Australia
END:VEVENT
END:VCALENDAR